BEGIN:VCALENDAR
VERSION:2.0
PRODID:-//eventon.com NONSGML v1.0//EN
CALSCALE:GREGORIAN
METHOD:PUBLISH
BEGIN:VEVENT
UID:69e6d3c20fb2f
DTSTAMP:20260421T013250Z
DTSTART:20260418
DTEND:20260419
LOCATION:
SUMMARY:46th West Point Event
DESCRIPTION:\nhttps://orienteeringusa.org/event-directory/46th-west-point-e
 vent/
URL:https://orienteeringusa.org/event-directory/46th-west-point-event/
END:VEVENT
END:VCALENDAR