BEGIN:VCALENDAR
VERSION:2.0
PRODID:-//eventon.com NONSGML v1.0//EN
CALSCALE:GREGORIAN
METHOD:PUBLISH
BEGIN:VEVENT
UID:69e6d38e103f4
DTSTAMP:20260421T013158Z
DTSTART:20260509
DTEND:20260510
LOCATION:
SUMMARY:Billygoat Weekend
DESCRIPTION:WCOC is planning to host the Billygoat on Sunday\,  in Bigelow 
 Hollow\,  CT with the possibility of applying for NRE sanctioning for a mid
 dle distance race the day before.\nhttps://orienteeringusa.org/event-direct
 ory/billygoat-weekend/
URL:https://orienteeringusa.org/event-directory/billygoat-weekend/
END:VEVENT
END:VCALENDAR