BEGIN:VCALENDAR
VERSION:2.0
PRODID:-//eventon.com NONSGML v1.0//EN
CALSCALE:GREGORIAN
METHOD:PUBLISH
BEGIN:VEVENT
UID:69e6d40027393
DTSTAMP:20260421T013352Z
DTSTART:20260925
DTEND:20260926
LOCATION:
SUMMARY:2026 Masters Nationals
DESCRIPTION:Friday Corn Maze + Two Day NRE (also Masters Champs) hosted by 
 NEOOC.\nhttps://orienteeringusa.org/event-directory/2026-masters-champs/
URL:https://orienteeringusa.org/event-directory/2026-masters-champs/
END:VEVENT
END:VCALENDAR