BEGIN:VCALENDAR
VERSION:2.0
PRODID:-//eventon.com NONSGML v1.0//EN
CALSCALE:GREGORIAN
METHOD:PUBLISH
BEGIN:VEVENT
UID:69e6d34b54f13
DTSTAMP:20260421T013051Z
DTSTART:20261227
DTEND:20261228
LOCATION:
SUMMARY:2026 North American Orienteering Championships
DESCRIPTION:\nhttps://orienteeringusa.org/event-directory/2026-north-americ
 an-orienteering-championships/
URL:https://orienteeringusa.org/event-directory/2026-north-american-orienteering-championships/
END:VEVENT
END:VCALENDAR