BEGIN:VCALENDAR
VERSION:2.0
PRODID:-//eventon.com NONSGML v1.0//EN
CALSCALE:GREGORIAN
METHOD:PUBLISH
BEGIN:VEVENT
UID:69e6d39402936
DTSTAMP:20260421T013204Z
DTSTART:20260612
DTEND:20260613
LOCATION:
SUMMARY:Pacific Northwest Orienteering Festival
DESCRIPTION:First two days sanctioned. Hoping to hold four NRE events\,  an
 d possibly four non-NRE events.\nhttps://orienteeringusa.org/event-director
 y/pacific-northwest-orienteering-festival-2/
URL:https://orienteeringusa.org/event-directory/pacific-northwest-orienteering-festival-2/
END:VEVENT
END:VCALENDAR