BEGIN:VCALENDAR
VERSION:2.0
PRODID:-//eventon.com NONSGML v1.0//EN
CALSCALE:GREGORIAN
METHOD:PUBLISH
BEGIN:VEVENT
UID:69e6d3c2289fe
DTSTAMP:20260421T013250Z
DTSTART:20260425
DTEND:20260426
LOCATION:
SUMMARY:MNOC 50th Anniversary Weekend
DESCRIPTION:Middle distance course on Saturday with events planned for map 
 plotting\,  pin punch\,  B&amp;W maps\,  etc. Social event. Possible NRE fo
 r Sunday with classic courses. NRE filing has been submitted.\nhttps://orie
 nteeringusa.org/event-directory/mnoc-50th-anniversary-weekend/
URL:https://orienteeringusa.org/event-directory/mnoc-50th-anniversary-weekend/
END:VEVENT
END:VCALENDAR