BEGIN:VCALENDAR
VERSION:2.0
PRODID:-//eventon.com NONSGML v1.0//EN
CALSCALE:GREGORIAN
METHOD:PUBLISH
BEGIN:VEVENT
UID:69e6d2fbc5c4b
DTSTAMP:20260421T012931Z
DTSTART:20260523
DTEND:20260524
LOCATION:
SUMMARY:2026 US WOC Team Trials
DESCRIPTION:Two sprints on Saturday and three elimination rounds on Sunday.
 \nhttps://orienteeringusa.org/event-directory/2026-us-woc-team-trials/
URL:https://orienteeringusa.org/event-directory/2026-us-woc-team-trials/
END:VEVENT
END:VCALENDAR