BEGIN:VCALENDAR
VERSION:2.0
PRODID:-//eventon.com NONSGML v1.0//EN
CALSCALE:GREGORIAN
METHOD:PUBLISH
BEGIN:VEVENT
UID:69e6d322055fe
DTSTAMP:20260421T013010Z
DTSTART:20260806
DTEND:20260807
LOCATION:
SUMMARY:Deschutes Daze
DESCRIPTION:Enjoy the return of our popular Deschutes Daze festival\,  last
  held in 2021\,  this time featuring courses for all ability levels\,  a re
 gional championship\,  a National Ranking Event (pending sanctioning)\,  an
 d a new map.\nhttps://orienteeringusa.org/event-directory/deschutes-daze/
URL:https://orienteeringusa.org/event-directory/deschutes-daze/
END:VEVENT
END:VCALENDAR